BEGIN:VCALENDAR
VERSION:2.0
PRODID:-//Helpline Center - ECPv6.15.20//NONSGML v1.0//EN
CALSCALE:GREGORIAN
METHOD:PUBLISH
X-ORIGINAL-URL:https://loss.helplinecenter.org
X-WR-CALDESC:Events for Helpline Center
REFRESH-INTERVAL;VALUE=DURATION:PT1H
X-Robots-Tag:noindex
X-PUBLISHED-TTL:PT1H
BEGIN:VTIMEZONE
TZID:America/Chicago
BEGIN:DAYLIGHT
TZOFFSETFROM:-0600
TZOFFSETTO:-0500
TZNAME:CDT
DTSTART:20220313T080000
END:DAYLIGHT
BEGIN:STANDARD
TZOFFSETFROM:-0500
TZOFFSETTO:-0600
TZNAME:CST
DTSTART:20221106T070000
END:STANDARD
BEGIN:DAYLIGHT
TZOFFSETFROM:-0600
TZOFFSETTO:-0500
TZNAME:CDT
DTSTART:20230312T080000
END:DAYLIGHT
BEGIN:STANDARD
TZOFFSETFROM:-0500
TZOFFSETTO:-0600
TZNAME:CST
DTSTART:20231105T070000
END:STANDARD
BEGIN:DAYLIGHT
TZOFFSETFROM:-0600
TZOFFSETTO:-0500
TZNAME:CDT
DTSTART:20240310T080000
END:DAYLIGHT
BEGIN:STANDARD
TZOFFSETFROM:-0500
TZOFFSETTO:-0600
TZNAME:CST
DTSTART:20241103T070000
END:STANDARD
END:VTIMEZONE
BEGIN:VEVENT
DTSTART;TZID=America/Chicago:20230610T090000
DTEND;TZID=America/Chicago:20230610T120000
DTSTAMP:20260420T100506
CREATED:20230315T200216Z
LAST-MODIFIED:20230417T173840Z
UID:1021-1686387600-1686398400@loss.helplinecenter.org
SUMMARY:Step Forward to Prevent Suicide- Sioux Falls
DESCRIPTION:As our communities and state continue to experience the loss of our family and friends to suicide\, the Step Forward to Prevent Suicide event promotes hope and healing and raises awareness and support for the Helpline Center’s local suicide prevention and survivor support programs. 100% of the proceeds stay local! \nParticipants have the opportunity to hear from an honorary speaker\, listen while loved ones names are read aloud during the remembrance ceremony\, and participate in a 1.5 mile walk. We encourage people to put together a team or register as an individual as we continue to step forward to prevent suicide and support those bereaved by loss.
URL:https://loss.helplinecenter.org/event/step-forward-to-prevent-suicide/
LOCATION:Raven Amphitheater\, 205 E. 6th Street\, Sioux Falls\, SD
END:VEVENT
END:VCALENDAR