BEGIN:VCALENDAR
VERSION:2.0
PRODID:-//Helpline Center - ECPv6.15.20//NONSGML v1.0//EN
CALSCALE:GREGORIAN
METHOD:PUBLISH
X-WR-CALNAME:Helpline Center
X-ORIGINAL-URL:https://loss.helplinecenter.org
X-WR-CALDESC:Events for Helpline Center
REFRESH-INTERVAL;VALUE=DURATION:PT1H
X-Robots-Tag:noindex
X-PUBLISHED-TTL:PT1H
BEGIN:VTIMEZONE
TZID:America/Chicago
BEGIN:DAYLIGHT
TZOFFSETFROM:-0600
TZOFFSETTO:-0500
TZNAME:CDT
DTSTART:20220313T080000
END:DAYLIGHT
BEGIN:STANDARD
TZOFFSETFROM:-0500
TZOFFSETTO:-0600
TZNAME:CST
DTSTART:20221106T070000
END:STANDARD
BEGIN:DAYLIGHT
TZOFFSETFROM:-0600
TZOFFSETTO:-0500
TZNAME:CDT
DTSTART:20230312T080000
END:DAYLIGHT
BEGIN:STANDARD
TZOFFSETFROM:-0500
TZOFFSETTO:-0600
TZNAME:CST
DTSTART:20231105T070000
END:STANDARD
BEGIN:DAYLIGHT
TZOFFSETFROM:-0600
TZOFFSETTO:-0500
TZNAME:CDT
DTSTART:20240310T080000
END:DAYLIGHT
BEGIN:STANDARD
TZOFFSETFROM:-0500
TZOFFSETTO:-0600
TZNAME:CST
DTSTART:20241103T070000
END:STANDARD
END:VTIMEZONE
BEGIN:VEVENT
DTSTART;TZID=America/Chicago:20230517T120000
DTEND;TZID=America/Chicago:20230517T130000
DTSTAMP:20260420T113316
CREATED:20230315T154623Z
LAST-MODIFIED:20230315T154852Z
UID:1012-1684324800-1684328400@loss.helplinecenter.org
SUMMARY:Virtual Suicide Survivor Support Group
DESCRIPTION:Our monthly virtual (online) suicide survivor support group provides survivors with a powerful community that comes together to share\, reflect on\, and experience that complex grief that accompanies losing a loved one to death by suicide. It’s a safe\, confidential space that looks to provide hope to survivors no matter where they are at in their journey. \nThere is no fee but registration is required. Must be 18 years old to attend. Register here.  \nIf you have questions\, you can email griefsupport@helplinecenter.org.
URL:https://loss.helplinecenter.org/event/virtual-suicide-survivor-support-group-4/
LOCATION:SD
CATEGORIES:Suicide Survivor Support Group
ATTACH;FMTTYPE=image/jpeg:https://loss.helplinecenter.org/wp-content/uploads/2023/01/hands-2847508_960_720.jpg
END:VEVENT
END:VCALENDAR